BEGIN:VCALENDAR
VERSION:2.0
PRODID:-//Saint-Gilles Nature Environnement - ECPv6.15.10//NONSGML v1.0//EN
CALSCALE:GREGORIAN
METHOD:PUBLISH
X-ORIGINAL-URL:https://www.sgne.fr
X-WR-CALDESC:Évènements pour Saint-Gilles Nature Environnement
REFRESH-INTERVAL;VALUE=DURATION:PT1H
X-Robots-Tag:noindex
X-PUBLISHED-TTL:PT1H
BEGIN:VTIMEZONE
TZID:Europe/Paris
BEGIN:DAYLIGHT
TZOFFSETFROM:+0100
TZOFFSETTO:+0200
TZNAME:CEST
DTSTART:20240331T010000
END:DAYLIGHT
BEGIN:STANDARD
TZOFFSETFROM:+0200
TZOFFSETTO:+0100
TZNAME:CET
DTSTART:20241027T010000
END:STANDARD
BEGIN:DAYLIGHT
TZOFFSETFROM:+0100
TZOFFSETTO:+0200
TZNAME:CEST
DTSTART:20250330T010000
END:DAYLIGHT
BEGIN:STANDARD
TZOFFSETFROM:+0200
TZOFFSETTO:+0100
TZNAME:CET
DTSTART:20251026T010000
END:STANDARD
BEGIN:DAYLIGHT
TZOFFSETFROM:+0100
TZOFFSETTO:+0200
TZNAME:CEST
DTSTART:20260329T010000
END:DAYLIGHT
BEGIN:STANDARD
TZOFFSETFROM:+0200
TZOFFSETTO:+0100
TZNAME:CET
DTSTART:20261025T010000
END:STANDARD
END:VTIMEZONE
BEGIN:VEVENT
DTSTART;TZID=Europe/Paris:20250111T100000
DTEND;TZID=Europe/Paris:20250111T123000
DTSTAMP:20260420T084839
CREATED:20241211T141036Z
LAST-MODIFIED:20241211T141039Z
UID:2527-1736589600-1736598600@www.sgne.fr
SUMMARY:Construction de gîtes à chauve-souris.
DESCRIPTION:Construction de gîtes à chauve-souris au jardin intergénérationnel avec les Incroyables Comestibles. Les chauve-souris ont de plus en plus de difficulté à trouver des abris pour se cacher le jour et se reproduire. La construction et la pose de gîtes artificiels permet de les aider. Gratuit et ouvert à tous\, enfants à partir de 6-7 ans.
URL:https://www.sgne.fr/agenda/construction-de-gites-a-chauve-souris/
END:VEVENT
BEGIN:VEVENT
DTSTART;TZID=Europe/Paris:20250114T194500
DTEND;TZID=Europe/Paris:20250114T214500
DTSTAMP:20260420T084839
CREATED:20240608T064005Z
LAST-MODIFIED:20241006T060823Z
UID:2457-1736883900-1736891100@www.sgne.fr
SUMMARY:Repair café
DESCRIPTION:Salle de la Prouverie\, 8\, rue de la Prouverie\, 35590 Saint-Gilles \n\n\n\nDes couturières des Bobinettes seront également présentes lors de ce Repair Café. Vous pouvez apporter des vêtements à réparer !
URL:https://www.sgne.fr/agenda/repair-cafe-14/
END:VEVENT
BEGIN:VEVENT
DTSTART;TZID=Europe/Paris:20250117T193000
DTEND;TZID=Europe/Paris:20250117T213000
DTSTAMP:20260420T084839
CREATED:20241212T210146Z
LAST-MODIFIED:20241212T210149Z
UID:2530-1737142200-1737149400@www.sgne.fr
SUMMARY:Assemblée générale à la maison des associations
DESCRIPTION:Prévoir un plat à partager et vos couverts. N’oubliez pas de renouveler votre adhésion\, seul les adhérents à jour de cotisation pourrons voter.
URL:https://www.sgne.fr/agenda/assemblee-generale-a-la-maison-des-associations/
END:VEVENT
BEGIN:VEVENT
DTSTART;TZID=Europe/Paris:20250126T103000
DTEND;TZID=Europe/Paris:20250126T120000
DTSTAMP:20260420T084839
CREATED:20241212T210337Z
LAST-MODIFIED:20241212T210340Z
UID:2532-1737887400-1737892800@www.sgne.fr
SUMMARY:Comptage des oiseaux avec la LPO
DESCRIPTION:Venez découvrir et observer les \n\n\n\noiseaux autour de l’étang de Saint-Gilles dans le cadre du comptage national annuel des oiseaux des jardins en hiver organisé par la LPO .Rendez-vous au kiosque de l’étang du Guichalet à Saint-Gilles.Prévoir une tenue adaptée à la météo du jour et vos jumelles si vous en possédez. Gratuit et ouvert à tous.
URL:https://www.sgne.fr/agenda/comptage-des-oiseaux-avec-la-lpo/
END:VEVENT
END:VCALENDAR